BEGIN:VCALENDAR
VERSION:2.0
PRODID:-//Adat Shalom Synagogue - ECPv6.15.20//NONSGML v1.0//EN
CALSCALE:GREGORIAN
METHOD:PUBLISH
X-WR-CALNAME:Adat Shalom Synagogue
X-ORIGINAL-URL:https://adatshalom.org
X-WR-CALDESC:Events for Adat Shalom Synagogue
REFRESH-INTERVAL;VALUE=DURATION:PT1H
X-Robots-Tag:noindex
X-PUBLISHED-TTL:PT1H
BEGIN:VTIMEZONE
TZID:America/Detroit
BEGIN:DAYLIGHT
TZOFFSETFROM:-0500
TZOFFSETTO:-0400
TZNAME:EDT
DTSTART:20250309T070000
END:DAYLIGHT
BEGIN:STANDARD
TZOFFSETFROM:-0400
TZOFFSETTO:-0500
TZNAME:EST
DTSTART:20251102T060000
END:STANDARD
BEGIN:DAYLIGHT
TZOFFSETFROM:-0500
TZOFFSETTO:-0400
TZNAME:EDT
DTSTART:20260308T070000
END:DAYLIGHT
BEGIN:STANDARD
TZOFFSETFROM:-0400
TZOFFSETTO:-0500
TZNAME:EST
DTSTART:20261101T060000
END:STANDARD
BEGIN:DAYLIGHT
TZOFFSETFROM:-0500
TZOFFSETTO:-0400
TZNAME:EDT
DTSTART:20270314T070000
END:DAYLIGHT
BEGIN:STANDARD
TZOFFSETFROM:-0400
TZOFFSETTO:-0500
TZNAME:EST
DTSTART:20271107T060000
END:STANDARD
END:VTIMEZONE
BEGIN:VEVENT
DTSTART;TZID=America/Detroit:20260423T080000
DTEND;TZID=America/Detroit:20260423T090000
DTSTAMP:20260423T014710
CREATED:20260131T203746Z
LAST-MODIFIED:20260319T232744Z
UID:50078-1776931200-1776934800@adatshalom.org
SUMMARY:Morning Minyan
DESCRIPTION:Services Sunday – Friday at 8 am in person at Adat Shalom or online. \nhttps://zoom.us/my/adatshalommi\, Meeting ID: 224 778 4919\, Passcode: 5782 \nIf you want a Siddur\, contact the main office.
URL:https://adatshalom.org/event/morning-minyan-203/
END:VEVENT
BEGIN:VEVENT
DTSTART;TZID=America/Detroit:20260423T120000
DTEND;TZID=America/Detroit:20260423T130000
DTSTAMP:20260423T014710
CREATED:20260302T221046Z
LAST-MODIFIED:20260319T232744Z
UID:50710-1776945600-1776949200@adatshalom.org
SUMMARY:Lunchtime learning with Rabbi Bergman
DESCRIPTION:
URL:https://adatshalom.org/event/lunchtime-learning-with-rabbi-bergman-4/
END:VEVENT
BEGIN:VEVENT
DTSTART;TZID=America/Detroit:20260423T130000
DTEND;TZID=America/Detroit:20260423T140000
DTSTAMP:20260423T014710
CREATED:20260131T203746Z
LAST-MODIFIED:20260226T214042Z
UID:50079-1776949200-1776952800@adatshalom.org
SUMMARY:Mind Aerobics with Jewish Family Service (JFS)
DESCRIPTION:
URL:https://adatshalom.org/event/mind-aerobics-with-jewish-family-service-jfs-14/
END:VEVENT
BEGIN:VEVENT
DTSTART;TZID=America/Detroit:20260423T180000
DTEND;TZID=America/Detroit:20260423T183000
DTSTAMP:20260423T014710
CREATED:20260201T203751Z
LAST-MODIFIED:20260319T232745Z
UID:50093-1776967200-1776969000@adatshalom.org
SUMMARY:Evening Minyan (in person and Zoom)
DESCRIPTION:Services Sunday – Friday at 5 p.m.in person at Adat Shalom or online.\nMinchah-Maariv \nMincha-Maariv Transliteration\nClick the above links to view the Siddur we will be using during Minyan\nhttps://zoom.us/my/adatshalommi?pwd=NHZGaVJGREk3NW4zK0lzVTllNkZmQT09\nMeeting ID: 224 778 4919 \nPasscode: 5782
URL:https://adatshalom.org/event/evening-minyan-in-person-and-zoom-262/
END:VEVENT
END:VCALENDAR