BEGIN:VCALENDAR
VERSION:2.0
PRODID:-//Adat Shalom Synagogue - ECPv6.15.20//NONSGML v1.0//EN
CALSCALE:GREGORIAN
METHOD:PUBLISH
X-WR-CALNAME:Adat Shalom Synagogue
X-ORIGINAL-URL:https://adatshalom.org
X-WR-CALDESC:Events for Adat Shalom Synagogue
REFRESH-INTERVAL;VALUE=DURATION:PT1H
X-Robots-Tag:noindex
X-PUBLISHED-TTL:PT1H
BEGIN:VTIMEZONE
TZID:America/Detroit
BEGIN:DAYLIGHT
TZOFFSETFROM:-0500
TZOFFSETTO:-0400
TZNAME:EDT
DTSTART:20250309T070000
END:DAYLIGHT
BEGIN:STANDARD
TZOFFSETFROM:-0400
TZOFFSETTO:-0500
TZNAME:EST
DTSTART:20251102T060000
END:STANDARD
BEGIN:DAYLIGHT
TZOFFSETFROM:-0500
TZOFFSETTO:-0400
TZNAME:EDT
DTSTART:20260308T070000
END:DAYLIGHT
BEGIN:STANDARD
TZOFFSETFROM:-0400
TZOFFSETTO:-0500
TZNAME:EST
DTSTART:20261101T060000
END:STANDARD
BEGIN:DAYLIGHT
TZOFFSETFROM:-0500
TZOFFSETTO:-0400
TZNAME:EDT
DTSTART:20270314T070000
END:DAYLIGHT
BEGIN:STANDARD
TZOFFSETFROM:-0400
TZOFFSETTO:-0500
TZNAME:EST
DTSTART:20271107T060000
END:STANDARD
END:VTIMEZONE
BEGIN:VEVENT
DTSTART;TZID=America/Detroit:20260424T080000
DTEND;TZID=America/Detroit:20260424T090000
DTSTAMP:20260424T013955
CREATED:20260201T203751Z
LAST-MODIFIED:20260423T085735Z
UID:50095-1777017600-1777021200@adatshalom.org
SUMMARY:Morning Minyan
DESCRIPTION:Services Sunday – Friday at 8 am in person at Adat Shalom or online. \nhttps://zoom.us/my/adatshalommi\, Meeting ID: 224 778 4919\, Passcode: 5782 \nIf you want a Siddur\, contact the main office.
URL:https://adatshalom.org/event/morning-minyan-204/
END:VEVENT
BEGIN:VEVENT
DTSTART;TZID=America/Detroit:20260424T081500
DTEND;TZID=America/Detroit:20260424T091500
DTSTAMP:20260424T013955
CREATED:20260201T203751Z
LAST-MODIFIED:20260423T085735Z
UID:50094-1777018500-1777022100@adatshalom.org
SUMMARY:Torah Cafe with Rabbi Nosanwisch
DESCRIPTION:
URL:https://adatshalom.org/event/torah-cafe-with-rabbi-nosanwisch-4/
LOCATION:Adat Shalom library
END:VEVENT
BEGIN:VEVENT
DTSTART;TZID=America/Detroit:20260424T100000
DTEND;TZID=America/Detroit:20260424T110000
DTSTAMP:20260424T013955
CREATED:20260223T175534Z
LAST-MODIFIED:20260422T044235Z
UID:50501-1777024800-1777028400@adatshalom.org
SUMMARY:Teva Tots & Shabbat
DESCRIPTION:Get outside and explore _teva -_ nature.\nTogether\, we’ll learn all about the changing world around us and enjoy the\nwonder of being in nature. We’ll also take some time to celebrate Shabbat and\ncreate new rituals for the family! \nView event on Jlive: https://jlive.app/events/14914
URL:https://adatshalom.org/event/teva-tots-shabbat-3/
LOCATION:Adat Shalom Synagogue 29901 Middlebelt Rd\, Farmington Hills
CATEGORIES:Grandparents,Parents,Young Children
ATTACH;FMTTYPE=image/png:https://adatshalom.org/wp-content/uploads/2026/02/TTS_jlive-PBL62D.png
ORGANIZER;CN="Adat Shalom Synagogue":MAILTO:info@adatshalom.org
END:VEVENT
BEGIN:VEVENT
DTSTART;TZID=America/Detroit:20260424T100000
DTEND;TZID=America/Detroit:20260424T110000
DTSTAMP:20260424T013955
CREATED:20260423T064235Z
LAST-MODIFIED:20260423T085735Z
UID:51351-1777024800-1777028400@adatshalom.org
SUMMARY:Teva Tots & Shabbat
DESCRIPTION:
URL:https://adatshalom.org/event/teva-tots-shabbat-7/
END:VEVENT
BEGIN:VEVENT
DTSTART;TZID=America/Detroit:20260424T180000
DTEND;TZID=America/Detroit:20260424T183000
DTSTAMP:20260424T013955
CREATED:20260201T203752Z
LAST-MODIFIED:20260423T085735Z
UID:50096-1777053600-1777055400@adatshalom.org
SUMMARY:Evening Minyan (in person and Zoom)
DESCRIPTION:Services Sunday – Friday at 5 p.m.in person at Adat Shalom or online.\nMinchah-Maariv \nMincha-Maariv Transliteration\nClick the above links to view the Siddur we will be using during Minyan\nhttps://zoom.us/my/adatshalommi?pwd=NHZGaVJGREk3NW4zK0lzVTllNkZmQT09\nMeeting ID: 224 778 4919 \nPasscode: 5782
URL:https://adatshalom.org/event/evening-minyan-in-person-and-zoom-263/
END:VEVENT
END:VCALENDAR