BEGIN:VCALENDAR
VERSION:2.0
PRODID:-//Adat Shalom Synagogue - ECPv6.15.20//NONSGML v1.0//EN
CALSCALE:GREGORIAN
METHOD:PUBLISH
X-WR-CALNAME:Adat Shalom Synagogue
X-ORIGINAL-URL:https://adatshalom.org
X-WR-CALDESC:Events for Adat Shalom Synagogue
REFRESH-INTERVAL;VALUE=DURATION:PT1H
X-Robots-Tag:noindex
X-PUBLISHED-TTL:PT1H
BEGIN:VTIMEZONE
TZID:America/Detroit
BEGIN:DAYLIGHT
TZOFFSETFROM:-0500
TZOFFSETTO:-0400
TZNAME:EDT
DTSTART:20240310T070000
END:DAYLIGHT
BEGIN:STANDARD
TZOFFSETFROM:-0400
TZOFFSETTO:-0500
TZNAME:EST
DTSTART:20241103T060000
END:STANDARD
BEGIN:DAYLIGHT
TZOFFSETFROM:-0500
TZOFFSETTO:-0400
TZNAME:EDT
DTSTART:20250309T070000
END:DAYLIGHT
BEGIN:STANDARD
TZOFFSETFROM:-0400
TZOFFSETTO:-0500
TZNAME:EST
DTSTART:20251102T060000
END:STANDARD
BEGIN:DAYLIGHT
TZOFFSETFROM:-0500
TZOFFSETTO:-0400
TZNAME:EDT
DTSTART:20260308T070000
END:DAYLIGHT
BEGIN:STANDARD
TZOFFSETFROM:-0400
TZOFFSETTO:-0500
TZNAME:EST
DTSTART:20261101T060000
END:STANDARD
END:VTIMEZONE
BEGIN:VEVENT
DTSTART;TZID=America/Detroit:20250802T164500
DTEND;TZID=America/Detroit:20250802T190000
DTSTAMP:20260422T081911
CREATED:20250701T185217Z
LAST-MODIFIED:20250701T185217Z
UID:812-1754153100-1754161200@adatshalom.org
SUMMARY:Erev Tisha B'Av
DESCRIPTION:On Tisha B’Av we remember the destruction of the Temple and other tragic moments of the Jewish past.
URL:https://adatshalom.org/event/erev-tisha-bav/
CATEGORIES:adult education,class,community,Holiday
END:VEVENT
BEGIN:VEVENT
DTSTART;TZID=America/Detroit:20250822T070000
DTEND;TZID=America/Detroit:20250822T080000
DTSTAMP:20260422T081911
CREATED:20250701T185219Z
LAST-MODIFIED:20250701T185219Z
UID:817-1755846000-1755849600@adatshalom.org
SUMMARY:New Moon Circle
DESCRIPTION:You are invited to a sacred space to welcome the New Moon of Elul and come together as a community for support\, healing\, and connection
URL:https://adatshalom.org/event/new-moon-circle/
CATEGORIES:class,women
END:VEVENT
BEGIN:VEVENT
DTSTART;TZID=America/Detroit:20250825T060000
DTEND;TZID=America/Detroit:20250825T070000
DTSTAMP:20260422T081911
CREATED:20250701T185219Z
LAST-MODIFIED:20250701T185219Z
UID:818-1756101600-1756105200@adatshalom.org
SUMMARY:Sisterhood Rosh Chodesh
DESCRIPTION:You’re invited to a Rosh Chodesh study session for women to welcome the new month!
URL:https://adatshalom.org/event/sisterhood-rosh-chodesh/
CATEGORIES:class,women
END:VEVENT
BEGIN:VEVENT
DTSTART;TZID=America/Detroit:20250827T080000
DTEND;TZID=America/Detroit:20250827T083000
DTSTAMP:20260422T081911
CREATED:20250701T185218Z
LAST-MODIFIED:20250701T185218Z
UID:816-1756281600-1756283400@adatshalom.org
SUMMARY:My Jewish Day
DESCRIPTION:An introduction to Jewish daily rituals taught in bite-sized pieces!
URL:https://adatshalom.org/event/my-jewish-day/
CATEGORIES:class,Jewish
END:VEVENT
END:VCALENDAR