BEGIN:VCALENDAR
VERSION:2.0
PRODID:-//Adat Shalom Synagogue - ECPv6.15.20//NONSGML v1.0//EN
CALSCALE:GREGORIAN
METHOD:PUBLISH
X-ORIGINAL-URL:https://adatshalom.org
X-WR-CALDESC:Events for Adat Shalom Synagogue
REFRESH-INTERVAL;VALUE=DURATION:PT1H
X-Robots-Tag:noindex
X-PUBLISHED-TTL:PT1H
BEGIN:VTIMEZONE
TZID:America/Detroit
BEGIN:DAYLIGHT
TZOFFSETFROM:-0500
TZOFFSETTO:-0400
TZNAME:EDT
DTSTART:20240310T070000
END:DAYLIGHT
BEGIN:STANDARD
TZOFFSETFROM:-0400
TZOFFSETTO:-0500
TZNAME:EST
DTSTART:20241103T060000
END:STANDARD
BEGIN:DAYLIGHT
TZOFFSETFROM:-0500
TZOFFSETTO:-0400
TZNAME:EDT
DTSTART:20250309T070000
END:DAYLIGHT
BEGIN:STANDARD
TZOFFSETFROM:-0400
TZOFFSETTO:-0500
TZNAME:EST
DTSTART:20251102T060000
END:STANDARD
BEGIN:DAYLIGHT
TZOFFSETFROM:-0500
TZOFFSETTO:-0400
TZNAME:EDT
DTSTART:20260308T070000
END:DAYLIGHT
BEGIN:STANDARD
TZOFFSETFROM:-0400
TZOFFSETTO:-0500
TZNAME:EST
DTSTART:20261101T060000
END:STANDARD
END:VTIMEZONE
BEGIN:VEVENT
DTSTART;TZID=America/Detroit:20250903T120000
DTEND;TZID=America/Detroit:20250903T123000
DTSTAMP:20260422T070705
CREATED:20250915T224425Z
LAST-MODIFIED:20250915T224425Z
UID:46202-1756900800-1756902600@adatshalom.org
SUMMARY:My Jewish Day with Rabbi Nosanwisch Zoom
DESCRIPTION:An introduction to Jewish daily rituals taught in bite-sized pieces!
URL:https://adatshalom.org/event/my-jewish-day-with-rabbi-nosanwisch-zoom/
CATEGORIES:class
END:VEVENT
BEGIN:VEVENT
DTSTART;TZID=America/Detroit:20250906T093000
DTEND;TZID=America/Detroit:20250906T103000
DTSTAMP:20260422T070705
CREATED:20250915T224425Z
LAST-MODIFIED:20250915T224425Z
UID:46204-1757151000-1757154600@adatshalom.org
SUMMARY:Elul-ulation with Billy Jonas
DESCRIPTION:Elul-ulation! A meditation workshop to calibrate your kavannah compass. More information at adatshalom.org/billy
URL:https://adatshalom.org/event/elul-ulation-with-billy-jonas/
CATEGORIES:class
END:VEVENT
BEGIN:VEVENT
DTSTART;TZID=America/Detroit:20250907T093000
DTEND;TZID=America/Detroit:20250907T103000
DTSTAMP:20260422T070705
CREATED:20250915T224428Z
LAST-MODIFIED:20250915T224428Z
UID:46207-1757237400-1757241000@adatshalom.org
SUMMARY:Knitting Circle
DESCRIPTION:Join the Sisterhood as we make scarves\,  hats\, and afghans for those in need. Feel free to get started at any time with yarn from the knitting cubicle in the main office. For more information contact: Debby Portney\, debbyportney@gmail.com or Bevery Yost\, bevvieby@gmail.com
URL:https://adatshalom.org/event/knitting-circle/
CATEGORIES:class
END:VEVENT
BEGIN:VEVENT
DTSTART;TZID=America/Detroit:20250908T190000
DTEND;TZID=America/Detroit:20250908T200000
DTSTAMP:20260422T070705
CREATED:20250915T224429Z
LAST-MODIFIED:20250915T224429Z
UID:46209-1757358000-1757361600@adatshalom.org
SUMMARY:Preparing for Rosh Hashanah with Rabbi Bergman and Rabbi Nosanwisch
DESCRIPTION:This gathering will mix text study and art as we ground ourselves in preparation for a new year. No art skills are necessary. RSVP to Kellie Yost\, kyost@adatshalom.org
URL:https://adatshalom.org/event/preparing-for-rosh-hashanah-with-rabbi-bergman-and-rabbi-nosanwisch/
CATEGORIES:class
END:VEVENT
BEGIN:VEVENT
DTSTART;TZID=America/Detroit:20250910T100000
DTEND;TZID=America/Detroit:20250910T110000
DTSTAMP:20260422T070705
CREATED:20250915T224444Z
LAST-MODIFIED:20250915T224444Z
UID:46212-1757498400-1757502000@adatshalom.org
SUMMARY:Sisterhood Feminist Torah Study
DESCRIPTION:Women Examining Life with Rabbi Nosanwisch. Bringing our life experiences to the study of our sacred texts. All women are welcome. No knowledge of Torah or Hebrew are necessary to enjoy this meaningful study session. Kindly RSVP by the Monday before a session to Sarah Hirsch\, shirsch@adatshalom.org
URL:https://adatshalom.org/event/sisterhood-feminist-torah-study/
CATEGORIES:class
END:VEVENT
BEGIN:VEVENT
DTSTART;TZID=America/Detroit:20250910T120000
DTEND;TZID=America/Detroit:20250910T123000
DTSTAMP:20260422T070705
CREATED:20250915T224430Z
LAST-MODIFIED:20250915T224430Z
UID:46211-1757505600-1757507400@adatshalom.org
SUMMARY:My Jewish Day
DESCRIPTION:An introduction to Jewish daily rituals taught in bite-sized pieces!
URL:https://adatshalom.org/event/my-jewish-day-2/
CATEGORIES:class
END:VEVENT
BEGIN:VEVENT
DTSTART;TZID=America/Detroit:20250911T190000
DTEND;TZID=America/Detroit:20250911T200000
DTSTAMP:20260422T070705
CREATED:20250915T224444Z
LAST-MODIFIED:20250915T224444Z
UID:46213-1757617200-1757620800@adatshalom.org
SUMMARY:Men's Club Thoughtful Thursdays with Rabbi Bergman
DESCRIPTION:A monthly forum for men to discuss intriguing topics with Rabbi Bergman. Questions: mensclub@adatshalom.org
URL:https://adatshalom.org/event/mens-club-thoughtful-thursdays-with-rabbi-bergman/
CATEGORIES:class
END:VEVENT
BEGIN:VEVENT
DTSTART;TZID=America/Detroit:20250914T093000
DTEND;TZID=America/Detroit:20250914T103000
DTSTAMP:20260422T070705
CREATED:20250915T224445Z
LAST-MODIFIED:20250915T224445Z
UID:46216-1757842200-1757845800@adatshalom.org
SUMMARY:PreHHD Meditation & Mindfulness
DESCRIPTION:Find your inner spirituality and realize how Judaism can make you feel  more whole and spiritually connected. No meditation experience necessary. Questions: jgross@adatshalom.org
URL:https://adatshalom.org/event/prehhd-meditation-mindfulness/
CATEGORIES:class
END:VEVENT
BEGIN:VEVENT
DTSTART;TZID=America/Detroit:20250919T110000
DTEND;TZID=America/Detroit:20250919T120000
DTSTAMP:20260422T070705
CREATED:20250915T224500Z
LAST-MODIFIED:20250915T224504Z
UID:46219-1758279600-1758283200@adatshalom.org
SUMMARY:New Moon Circle
DESCRIPTION:You are invited to a sacred space to welcome the New Moon. Come together as a community for support\, healing\, and connection. Hosted by Rabbi Nosanwisch and Mallory Shiffman. Contact shirsch@adatshalom.org with questions
URL:https://adatshalom.org/event/new-moon-circle-2/
CATEGORIES:class
END:VEVENT
BEGIN:VEVENT
DTSTART;TZID=America/Detroit:20250920T094500
DTEND;TZID=America/Detroit:20250920T104500
DTSTAMP:20260422T070705
CREATED:20250915T224500Z
LAST-MODIFIED:20250915T224504Z
UID:46220-1758361500-1758365100@adatshalom.org
SUMMARY:Soulful Yoga
DESCRIPTION:Whether you are new to yoga\, or are an experienced practitioner you will find soulful yoga a meaningful and joyful practice. No experience necessary. Dress comfortably. Bring a mat if you have one or borrow one of ours. Questions: jgross@adatshalom.org
URL:https://adatshalom.org/event/soulful-yoga/
CATEGORIES:class
END:VEVENT
BEGIN:VEVENT
DTSTART;TZID=America/Detroit:20250921T093000
DTEND;TZID=America/Detroit:20250921T103000
DTSTAMP:20260422T070705
CREATED:20250915T224512Z
LAST-MODIFIED:20250915T224512Z
UID:46227-1758447000-1758450600@adatshalom.org
SUMMARY:Pre-HHD Meditation & Mindfulness
DESCRIPTION:Find your inner spirituality and realize how Judaism can make you feel  more whole and spiritually connected. No meditation experience necessary. Questions: jgross@adatshalom.org
URL:https://adatshalom.org/event/pre-hhd-meditation-mindfulness/
CATEGORIES:class
END:VEVENT
BEGIN:VEVENT
DTSTART;TZID=America/Detroit:20250928T093000
DTEND;TZID=America/Detroit:20250928T103000
DTSTAMP:20260422T070705
CREATED:20250915T224513Z
LAST-MODIFIED:20250915T224513Z
UID:46230-1759051800-1759055400@adatshalom.org
SUMMARY:Meditation & Mindfulness with Rabbi Bergman
DESCRIPTION:Find your inner spirituality and realize how Judaism can make you feel  more whole and spiritually connected. No meditation experience necessary. Questions: jgross@adatshalom.org
URL:https://adatshalom.org/event/meditation-mindfulness-with-rabbi-bergman/
CATEGORIES:class
END:VEVENT
END:VCALENDAR