BEGIN:VCALENDAR
VERSION:2.0
PRODID:-//Adat Shalom Synagogue - ECPv6.15.20//NONSGML v1.0//EN
CALSCALE:GREGORIAN
METHOD:PUBLISH
X-WR-CALNAME:Adat Shalom Synagogue
X-ORIGINAL-URL:https://adatshalom.org
X-WR-CALDESC:Events for Adat Shalom Synagogue
REFRESH-INTERVAL;VALUE=DURATION:PT1H
X-Robots-Tag:noindex
X-PUBLISHED-TTL:PT1H
BEGIN:VTIMEZONE
TZID:America/Detroit
BEGIN:DAYLIGHT
TZOFFSETFROM:-0500
TZOFFSETTO:-0400
TZNAME:EDT
DTSTART:20240310T070000
END:DAYLIGHT
BEGIN:STANDARD
TZOFFSETFROM:-0400
TZOFFSETTO:-0500
TZNAME:EST
DTSTART:20241103T060000
END:STANDARD
BEGIN:DAYLIGHT
TZOFFSETFROM:-0500
TZOFFSETTO:-0400
TZNAME:EDT
DTSTART:20250309T070000
END:DAYLIGHT
BEGIN:STANDARD
TZOFFSETFROM:-0400
TZOFFSETTO:-0500
TZNAME:EST
DTSTART:20251102T060000
END:STANDARD
BEGIN:DAYLIGHT
TZOFFSETFROM:-0500
TZOFFSETTO:-0400
TZNAME:EDT
DTSTART:20260308T070000
END:DAYLIGHT
BEGIN:STANDARD
TZOFFSETFROM:-0400
TZOFFSETTO:-0500
TZNAME:EST
DTSTART:20261101T060000
END:STANDARD
END:VTIMEZONE
BEGIN:VEVENT
DTSTART;TZID=America/Detroit:20251005T093000
DTEND;TZID=America/Detroit:20251005T103000
DTSTAMP:20260422T070735
CREATED:20250915T224514Z
LAST-MODIFIED:20250915T224514Z
UID:46231-1759656600-1759660200@adatshalom.org
SUMMARY:Knitting Circle
DESCRIPTION:Join the Sisterhood as we make scarves\,  hats\, and afghans for those in need. Feel free to get started at any time with yarn from the knitting cubicle in the main office. For more information contact: Debby Portney\, debbyportney@gmail.com or Bevery Yost\,
URL:https://adatshalom.org/event/knitting-circle-2/
CATEGORIES:class
END:VEVENT
END:VCALENDAR