BEGIN:VCALENDAR
VERSION:2.0
PRODID:-//Adat Shalom Synagogue - ECPv6.15.20//NONSGML v1.0//EN
CALSCALE:GREGORIAN
METHOD:PUBLISH
X-ORIGINAL-URL:https://adatshalom.org
X-WR-CALDESC:Events for Adat Shalom Synagogue
REFRESH-INTERVAL;VALUE=DURATION:PT1H
X-Robots-Tag:noindex
X-PUBLISHED-TTL:PT1H
BEGIN:VTIMEZONE
TZID:America/Detroit
BEGIN:DAYLIGHT
TZOFFSETFROM:-0500
TZOFFSETTO:-0400
TZNAME:EDT
DTSTART:20240310T070000
END:DAYLIGHT
BEGIN:STANDARD
TZOFFSETFROM:-0400
TZOFFSETTO:-0500
TZNAME:EST
DTSTART:20241103T060000
END:STANDARD
BEGIN:DAYLIGHT
TZOFFSETFROM:-0500
TZOFFSETTO:-0400
TZNAME:EDT
DTSTART:20250309T070000
END:DAYLIGHT
BEGIN:STANDARD
TZOFFSETFROM:-0400
TZOFFSETTO:-0500
TZNAME:EST
DTSTART:20251102T060000
END:STANDARD
BEGIN:DAYLIGHT
TZOFFSETFROM:-0500
TZOFFSETTO:-0400
TZNAME:EDT
DTSTART:20260308T070000
END:DAYLIGHT
BEGIN:STANDARD
TZOFFSETFROM:-0400
TZOFFSETTO:-0500
TZNAME:EST
DTSTART:20261101T060000
END:STANDARD
BEGIN:DAYLIGHT
TZOFFSETFROM:-0500
TZOFFSETTO:-0400
TZNAME:EDT
DTSTART:20270314T070000
END:DAYLIGHT
BEGIN:STANDARD
TZOFFSETFROM:-0400
TZOFFSETTO:-0500
TZNAME:EST
DTSTART:20271107T060000
END:STANDARD
END:VTIMEZONE
BEGIN:VEVENT
DTSTART;TZID=America/Detroit:20260224T190000
DTEND;TZID=America/Detroit:20260224T210000
DTSTAMP:20260419T152848
CREATED:20251213T003149Z
LAST-MODIFIED:20260224T182522Z
UID:48712-1771959600-1771966800@adatshalom.org
SUMMARY:Big Questions Beit Midrash - Topic #2: Justice
DESCRIPTION:Big Questions Beit Midrash is a shared space for adults to grapple with\ncomplex issues facing American Jewry through Jewish texts and ideas. Is asking\nbig questions good for the jews? \nYou have answers… We have questions! Join Rabbi Blair Nosanwisch and Rabbi\nMichael Langer during this 4 part series. Each session will explore a\ndifferent topic. \nDates: December 9\, February 24\, April 28\, and June 16 \nView event on Jlive: https://jlive.app/events/12681
URL:https://adatshalom.org/event/big-questions-beit-midrash-6/
LOCATION:Adat Shalom Synagogue 29901 Middlebelt Rd\, Farmington Hills
CATEGORIES:Adults,Jewish Learning
ATTACH;FMTTYPE=image/png:https://adatshalom.org/wp-content/uploads/2025/11/Beit_midrash_December_2025_960_x_600_px_1-esLmnJ.png
ORGANIZER;CN="Adat Shalom Synagogue":MAILTO:info@adatshalom.org
END:VEVENT
BEGIN:VEVENT
DTSTART;TZID=America/Detroit:20260224T190000
DTEND;TZID=America/Detroit:20260224T203000
DTSTAMP:20260419T152848
CREATED:20251110T221858Z
LAST-MODIFIED:20251212T003134Z
UID:47294-1771959600-1771965000@adatshalom.org
SUMMARY:Big Questions Beit Midrash
DESCRIPTION:Big Questions Beit Midrash is a shared space for adults to grapple with\ncomplex issues facing American Jewry through Jewish texts and ideas. Is asking\nbig questions good for the jews? \nYou have answers… We have questions! Join Rabbi Blair Nosanwisch and Rabbi\nMichael Langer during this 4 part series. Each session will explore a\ndifferent topic. \nDates: December 9\, February 24\, April 28\, and June 16 \nView event on Jlive: https://jlive.app/events/12681
URL:https://adatshalom.org/event/big-questions-beit-midrash-3/
LOCATION:Adat Shalom Synagogue 29901 Middlebelt Rd\, Farmington Hills
CATEGORIES:Adults,Jewish Learning
ATTACH;FMTTYPE=image/png:https://adatshalom.org/wp-content/uploads/2025/11/Beit_midrash_December_2025_960_x_600_px_1-esLmnJ.png
ORGANIZER;CN="Adat Shalom Synagogue":MAILTO:info@adatshalom.org
END:VEVENT
BEGIN:VEVENT
DTSTART;TZID=America/Detroit:20260114T190000
DTEND;TZID=America/Detroit:20260114T201500
DTSTAMP:20260419T152848
CREATED:20251110T221854Z
LAST-MODIFIED:20260114T083705Z
UID:47290-1768417200-1768421700@adatshalom.org
SUMMARY:Synagogue Thrival Kit 2026
DESCRIPTION:Join Rabbi Bergman\, Hazzan Gross\, and Rabbi Nosanwisch on a guided journey\nabout how to thrive in Jewish religion and tradition!\n  * Do you want to explore a wide variety of Jewish topics?\n  * Are you Jewish\, Jew-ish\, or Jew-curious?\n  * Are you excited to build community with a group of other learners and clergy?\n**It is a weekly journey from Wednesdays\, January 14 to May 20\, 7 to 8:15pm on\nZoom.**\n**﻿Plus\, monthly in-person gatherings at Adat Shalom including a celebration\nof learning on May 21.**\n   https://docs.google.com/document/d/11YObbd4_MwNB1GCzztLCpgke6a6B-dOC/edit?usp=sharing&ouid=117083529822360965040&rtpof=true&sd=true \nView event on Jlive: https://jlive.app/events/12432
URL:https://adatshalom.org/event/synagogue-thrival-kit-2026/
LOCATION:Adat Shalom Synagogue 29901 Middlebelt Rd\, Farmington Hills
CATEGORIES:Adults,Jewish Learning
ATTACH;FMTTYPE=image/png:https://adatshalom.org/wp-content/uploads/2025/11/JG_draft_wo_STK__1-Jrsrng.png
ORGANIZER;CN="Adat Shalom Synagogue":MAILTO:info@adatshalom.org
END:VEVENT
BEGIN:VEVENT
DTSTART;TZID=America/Detroit:20251209T190000
DTEND;TZID=America/Detroit:20251209T203000
DTSTAMP:20260419T152848
CREATED:20251110T221849Z
LAST-MODIFIED:20251210T001632Z
UID:47278-1765306800-1765312200@adatshalom.org
SUMMARY:Big Questions Beit Midrash
DESCRIPTION:Big Questions Beit Midrash is a shared space for adults to grapple with\ncomplex issues facing American Jewry through Jewish texts and ideas. Is asking\nbig questions good for the jews? \nYou have answers… We have questions! Join Rabbi Blair Nosanwisch and Rabbi\nMichael Langer during this 4 part series. Each session will explore a\ndifferent topic. \nDates: December 9\, February 24\, April 28\, and June 16 \nView event on Jlive: https://jlive.app/events/12681
URL:https://adatshalom.org/event/big-questions-beit-midrash/
LOCATION:Adat Shalom Synagogue 29901 Middlebelt Rd\, Farmington Hills
CATEGORIES:Adults,Jewish Learning
ATTACH;FMTTYPE=image/png:https://adatshalom.org/wp-content/uploads/2025/11/Beit_midrash_December_2025_960_x_600_px_1-esLmnJ.png
ORGANIZER;CN="Adat Shalom Synagogue":MAILTO:info@adatshalom.org
END:VEVENT
END:VCALENDAR