BEGIN:VCALENDAR
VERSION:2.0
PRODID:-//Adat Shalom Synagogue - ECPv6.15.20//NONSGML v1.0//EN
CALSCALE:GREGORIAN
METHOD:PUBLISH
X-WR-CALNAME:Adat Shalom Synagogue
X-ORIGINAL-URL:https://adatshalom.org
X-WR-CALDESC:Events for Adat Shalom Synagogue
REFRESH-INTERVAL;VALUE=DURATION:PT1H
X-Robots-Tag:noindex
X-PUBLISHED-TTL:PT1H
BEGIN:VTIMEZONE
TZID:America/Detroit
BEGIN:DAYLIGHT
TZOFFSETFROM:-0500
TZOFFSETTO:-0400
TZNAME:EDT
DTSTART:20250309T070000
END:DAYLIGHT
BEGIN:STANDARD
TZOFFSETFROM:-0400
TZOFFSETTO:-0500
TZNAME:EST
DTSTART:20251102T060000
END:STANDARD
BEGIN:DAYLIGHT
TZOFFSETFROM:-0500
TZOFFSETTO:-0400
TZNAME:EDT
DTSTART:20260308T070000
END:DAYLIGHT
BEGIN:STANDARD
TZOFFSETFROM:-0400
TZOFFSETTO:-0500
TZNAME:EST
DTSTART:20261101T060000
END:STANDARD
BEGIN:DAYLIGHT
TZOFFSETFROM:-0500
TZOFFSETTO:-0400
TZNAME:EDT
DTSTART:20270314T070000
END:DAYLIGHT
BEGIN:STANDARD
TZOFFSETFROM:-0400
TZOFFSETTO:-0500
TZNAME:EST
DTSTART:20271107T060000
END:STANDARD
END:VTIMEZONE
BEGIN:VEVENT
DTSTART;TZID=America/Detroit:20260428T190000
DTEND;TZID=America/Detroit:20260428T203000
DTSTAMP:20260419T152536
CREATED:20251110T221902Z
LAST-MODIFIED:20251212T003135Z
UID:47298-1777402800-1777408200@adatshalom.org
SUMMARY:Big Questions Beit Midrash
DESCRIPTION:Big Questions Beit Midrash is a shared space for adults to grapple with\ncomplex issues facing American Jewry through Jewish texts and ideas. Is asking\nbig questions good for the jews? \nYou have answers… We have questions! Join Rabbi Blair Nosanwisch and Rabbi\nMichael Langer during this 4 part series. Each session will explore a\ndifferent topic. \nDates: December 9\, February 24\, April 28\, and June 16 \nView event on Jlive: https://jlive.app/events/12681
URL:https://adatshalom.org/event/big-questions-beit-midrash-4/
LOCATION:Adat Shalom Synagogue 29901 Middlebelt Rd\, Farmington Hills
CATEGORIES:Adults,Jewish Learning
ATTACH;FMTTYPE=image/png:https://adatshalom.org/wp-content/uploads/2025/11/Beit_midrash_December_2025_960_x_600_px_1-esLmnJ.png
ORGANIZER;CN="Adat Shalom Synagogue":MAILTO:info@adatshalom.org
END:VEVENT
BEGIN:VEVENT
DTSTART;TZID=America/Detroit:20260428T190000
DTEND;TZID=America/Detroit:20260428T210000
DTSTAMP:20260419T152536
CREATED:20251213T003149Z
LAST-MODIFIED:20260415T042736Z
UID:48713-1777402800-1777410000@adatshalom.org
SUMMARY:Big Questions Beit Midrash - Security
DESCRIPTION:Join Rabbi Nosanwisch and Rabbi Langer during Big Questions Beit Midrash to\nexplore SECURITY…\n  * Where do you feel safe vs. unsafe?\n  * How do we balance safety with freedom?\n  * Whose safety counts?\n  * Is feeling safe the same as being safe? \nBig Questions Beit Midrash is a shared space for adults to grapple with\ncomplex issues facing American Jewry through Jewish texts and ideas. \nIs asking big questions good for the jews? You have answers… We have\nquestions! \nFuture date (different topic) June 16 \nView event on Jlive: https://jlive.app/events/12681
URL:https://adatshalom.org/event/big-questions-beit-midrash-7/
LOCATION:Adat Shalom Synagogue 29901 Middlebelt Rd\, Farmington Hills
CATEGORIES:Adults,Jewish Learning
ATTACH;FMTTYPE=image/png:https://adatshalom.org/wp-content/uploads/2026/03/Beit_midrash_April_Jlive_960_x_600_px-rLYopP.png
ORGANIZER;CN="Adat Shalom Synagogue":MAILTO:info@adatshalom.org
END:VEVENT
END:VCALENDAR