BEGIN:VCALENDAR
VERSION:2.0
PRODID:-//Adat Shalom Synagogue - ECPv6.15.20//NONSGML v1.0//EN
CALSCALE:GREGORIAN
METHOD:PUBLISH
X-ORIGINAL-URL:https://adatshalom.org
X-WR-CALDESC:Events for Adat Shalom Synagogue
REFRESH-INTERVAL;VALUE=DURATION:PT1H
X-Robots-Tag:noindex
X-PUBLISHED-TTL:PT1H
BEGIN:VTIMEZONE
TZID:America/Detroit
BEGIN:DAYLIGHT
TZOFFSETFROM:-0500
TZOFFSETTO:-0400
TZNAME:EDT
DTSTART:20240310T070000
END:DAYLIGHT
BEGIN:STANDARD
TZOFFSETFROM:-0400
TZOFFSETTO:-0500
TZNAME:EST
DTSTART:20241103T060000
END:STANDARD
BEGIN:DAYLIGHT
TZOFFSETFROM:-0500
TZOFFSETTO:-0400
TZNAME:EDT
DTSTART:20250309T070000
END:DAYLIGHT
BEGIN:STANDARD
TZOFFSETFROM:-0400
TZOFFSETTO:-0500
TZNAME:EST
DTSTART:20251102T060000
END:STANDARD
BEGIN:DAYLIGHT
TZOFFSETFROM:-0500
TZOFFSETTO:-0400
TZNAME:EDT
DTSTART:20260308T070000
END:DAYLIGHT
BEGIN:STANDARD
TZOFFSETFROM:-0400
TZOFFSETTO:-0500
TZNAME:EST
DTSTART:20261101T060000
END:STANDARD
END:VTIMEZONE
BEGIN:VEVENT
DTSTART;TZID=America/Detroit:20250907T093000
DTEND;TZID=America/Detroit:20250907T103000
DTSTAMP:20260422T095131
CREATED:20250915T224428Z
LAST-MODIFIED:20250915T224428Z
UID:46207-1757237400-1757241000@adatshalom.org
SUMMARY:Knitting Circle
DESCRIPTION:Join the Sisterhood as we make scarves\,  hats\, and afghans for those in need. Feel free to get started at any time with yarn from the knitting cubicle in the main office. For more information contact: Debby Portney\, debbyportney@gmail.com or Bevery Yost\, bevvieby@gmail.com
URL:https://adatshalom.org/event/knitting-circle/
CATEGORIES:class
END:VEVENT
BEGIN:VEVENT
DTSTART;TZID=America/Detroit:20250910T190000
DTEND;TZID=America/Detroit:20250910T200000
DTSTAMP:20260422T095131
CREATED:20250915T224429Z
LAST-MODIFIED:20250915T224429Z
UID:46210-1757530800-1757534400@adatshalom.org
SUMMARY:Growing through Grief
DESCRIPTION:Gather with other to process and move through your grief in whatever form it takes. Sessions include a mix of sharing and learning. This bereavement circle is for adults in their 20s\, 30s\, and 40s and is led by Rabbi Nosanwisch and Dr. Jackie Issner. There is a suggested donation of 10 or 18/session for non-members which can be made at adatshalom.org/bc.
URL:https://adatshalom.org/event/growing-through-grief/
CATEGORIES:Support Group
END:VEVENT
BEGIN:VEVENT
DTSTART;TZID=America/Detroit:20250916T190000
DTEND;TZID=America/Detroit:20250916T200000
DTSTAMP:20260422T095131
CREATED:20250915T224459Z
LAST-MODIFIED:20250915T224503Z
UID:46218-1758049200-1758052800@adatshalom.org
SUMMARY:Drum Circle-Hazzan Gross
DESCRIPTION:Full Moon Drum Circle with Hazzan Gross. All are welcome – drums provided. RSVP to kyost@adatshalom.org
URL:https://adatshalom.org/event/drum-circle-hazzan-gross/
CATEGORIES:Music
END:VEVENT
END:VCALENDAR